2.43840000
0.00000000
0.00000000
-2.43840000
614057.77229628
5165336.34166147
