2.43840000
0.00000000
0.00000000
-2.43840000
642770.48003346
5165997.90847215
