2.43840000
0.00000000
0.00000000
-2.43840000
623918.24377896
5151650.75945588
