2.43840000
0.00000000
0.00000000
-2.43840000
624201.98590692
5137765.04477318
