2.43840000
0.00000000
0.00000000
-2.43840000
595806.98136892
5109413.25146893
