2.43840000
0.00000000
0.00000000
-2.43840000
698783.95395532
5209406.42182196
