2.43840000
0.00000000
0.00000000
-2.43840000
661159.58391535
5194296.59214365
