2.438400
0.000000
0.000000
-2.438400
670840.268186
5180697.419698
