2.43840000
0.00000000
0.00000000
-2.43840000
709265.50705098
5181695.99402405
