2.43840000
0.00000000
0.00000000
-2.43840000
681043.18319676
5167099.21557223
