2.43840000
0.00000000
0.00000000
-2.43840000
662651.19022986
5138739.67575666
