2.43840000
0.00000000
0.00000000
-2.43840000
682290.34094144
5125433.07952443
