2.43840000
0.00000000
0.00000000
-2.43840000
691924.41169577
5125745.77612756
