2.43840000
0.00000000
0.00000000
-2.43840000
289621.37738432
5209405.31065055
