2.43840000
0.00000000
0.00000000
-2.43840000
270033.86238264
5196218.68326178
