2.43840000
0.00000000
0.00000000
-2.43840000
279583.42671688
5195861.85610394
