2.43840000
0.00000000
0.00000000
-2.43840000
298217.92923914
5181302.20789562
