2.43840000
0.00000000
0.00000000
-2.43840000
317361.77733024
5180692.55573129
