2.43840000
0.00000000
0.00000000
-2.43840000
326933.82556992
5180409.41339370
