2.43840000
0.00000000
0.00000000
-2.43840000
326146.52520795
5152631.84663705
