2.43840000
0.00000000
0.00000000
-2.43840000
335014.82375604
5124586.25490423
