2.43840000
0.00000000
0.00000000
-2.43840000
266870.46021605
5112888.31083344
