2.43840000
0.00000000
0.00000000
-2.43840000
276551.97064425
5112531.00540210
