2.43840000
0.00000000
0.00000000
-2.43840000
315278.65933859
5111247.33058535
