2.43840000
0.00000000
0.00000000
-2.43840000
324968.14630544
5110964.78646773
