2.43840000
0.00000000
0.00000000
-2.43840000
365843.96560667
5207213.25224623
