2.43840000
0.00000000
0.00000000
-2.43840000
413484.49821462
5206335.12679390
