2.43840000
0.00000000
0.00000000
-2.43840000
355982.66313873
5193544.29705380
