2.43840000
0.00000000
0.00000000
-2.43840000
345724.18609826
5166001.43720400
