2.43840000
0.00000000
0.00000000
-2.43840000
355318.34785445
5165764.91908846
