2.43840000
0.00000000
0.00000000
-2.43840000
393695.34084173
5164969.62307080
