2.43840000
0.00000000
0.00000000
-2.43840000
383843.51236740
5151255.82253924
