2.43840000
0.00000000
0.00000000
-2.43840000
393459.76318123
5151080.02699360
