2.43840000
0.00000000
0.00000000
-2.43840000
345026.56484243
5138219.73855595
