2.43840000
0.00000000
0.00000000
-2.43840000
392974.79002611
5123303.08682620
