2.43840000
0.00000000
0.00000000
-2.43840000
402634.79869781
5123143.52396081
