2.43840000
0.00000000
0.00000000
-2.43840000
412104.60468944
5109107.06615154
