2.43840000
0.00000000
0.00000000
-2.43840000
442070.03356456
5205985.83381870
