2.43840000
0.00000000
0.00000000
-2.43840000
461036.40090995
5191943.42853956
