2.43840000
0.00000000
0.00000000
-2.43840000
432231.54888440
5178307.12490514
