2.43840000
0.00000000
0.00000000
-2.43840000
480093.61291805
5177959.70392927
