2.43840000
0.00000000
0.00000000
-2.43840000
432077.34715383
5164417.21686238
