2.43840000
0.00000000
0.00000000
-2.43840000
441673.27999962
5164317.34830229
