2.43840000
0.00000000
0.00000000
-2.43840000
460774.09858271
5150272.40880796
