2.43840000
0.00000000
0.00000000
-2.43840000
470389.68125572
5150219.19395118
