2.43840000
0.00000000
0.00000000
-2.43840000
480006.06482845
5150180.04263755
