2.43840000
0.00000000
0.00000000
-2.43840000
489623.21667982
5150154.95816221
