2.43840000
0.00000000
0.00000000
-2.43840000
489601.88724867
5136266.69748141
