2.43840000
0.00000000
0.00000000
-2.43840000
441283.06658759
5122645.99627275
