2.43840000
0.00000000
0.00000000
-2.43840000
479918.93162099
5122400.50104208
